Package: tRNAdbImport
Version: 1.25.0
Command: rm -rf tRNAdbImport.buildbin-libdir && mkdir tRNAdbImport.buildbin-libdir && /Users/biocbuild/BBS/utils/build-universal.sh tRNAdbImport_1.25.0.tar.gz /Library/Frameworks/R.framework/Resources/bin/R tRNAdbImport.buildbin-libdir
StartedAt: 2025-02-19 22:41:56 -0500 (Wed, 19 Feb 2025)
EndedAt: 2025-02-19 22:42:02 -0500 (Wed, 19 Feb 2025)
EllapsedTime: 6.2 seconds
RetCode: 0
Status: OK
PackageFile: tRNAdbImport_1.25.0.tgz
PackageFileSize: 379.5 <A href="http://en.wikipedia.org/wiki/KiB" target="_blank">KiB</A>