Package: tLOH
Version: 1.15.0
Command: /home/biocbuild/R/R/bin/R CMD INSTALL tLOH
StartedAt: 2025-01-29 20:24:20 -0000 (Wed, 29 Jan 2025)
EndedAt: 2025-01-29 20:25:19 -0000 (Wed, 29 Jan 2025)
EllapsedTime: 59.7 seconds
RetCode: 0
Status: OK