Package: tLOH
Version: 1.15.0
Command: /home/biocbuild/R/R/bin/R CMD check --install=check:tLOH.install-out.txt --library=/home/biocbuild/R/R/site-library --no-vignettes --timings tLOH_1.15.0.tar.gz
StartedAt: 2025-01-27 13:29:16 -0000 (Mon, 27 Jan 2025)
EndedAt: 2025-01-27 13:46:05 -0000 (Mon, 27 Jan 2025)
EllapsedTime: 1009.5 seconds
RetCode: 0
Status: OK
CheckDir: tLOH.Rcheck
Warnings: 0