Package: tLOH
Version: 1.15.0
Command: /home/biocbuild/R/R/bin/R CMD build --keep-empty-dirs --no-resave-data tLOH
StartedAt: 2025-01-28 02:56:42 -0000 (Tue, 28 Jan 2025)
EndedAt: 2025-01-28 02:58:19 -0000 (Tue, 28 Jan 2025)
EllapsedTime: 97.0 seconds
RetCode: 0
Status: OK
PackageFile: tLOH_1.15.0.tar.gz
PackageFileSize: 1.698 <A href="http://en.wikipedia.org/wiki/MiB" target="_blank">MiB</A>