Package: synapter Version: 2.31.0 Command: /home/biocbuild/bbs-3.21-bioc/R/bin/R CMD build --keep-empty-dirs --no-resave-data synapter StartedAt: 2025-02-04 19:29:45 -0500 (Tue, 04 Feb 2025) EndedAt: 2025-02-04 19:35:52 -0500 (Tue, 04 Feb 2025) EllapsedTime: 366.7 seconds RetCode: 0 Status: OK PackageFile: synapter_2.31.0.tar.gz PackageFileSize: 4.576 MiB