Package: synapter Version: 2.31.0 Command: /home/biocbuild/R/R/bin/R CMD check --install=check:synapter.install-out.txt --library=/home/biocbuild/R/R/site-library --no-vignettes --timings synapter_2.31.0.tar.gz StartedAt: 2025-01-28 15:57:46 -0000 (Tue, 28 Jan 2025) EndedAt: 2025-01-28 16:05:31 -0000 (Tue, 28 Jan 2025) EllapsedTime: 464.8 seconds RetCode: 0 Status: OK CheckDir: synapter.Rcheck Warnings: 0