Package: synapter Version: 2.31.0 Command: /home/biocbuild/R/R/bin/R CMD build --keep-empty-dirs --no-resave-data synapter StartedAt: 2025-01-28 02:50:24 -0000 (Tue, 28 Jan 2025) EndedAt: 2025-01-28 02:59:55 -0000 (Tue, 28 Jan 2025) EllapsedTime: 570.3 seconds RetCode: 0 Status: OK PackageFile: synapter_2.31.0.tar.gz PackageFileSize: 3.309 MiB