Package: synapter
Version: 2.31.0
Command: /Library/Frameworks/R.framework/Resources/bin/R CMD INSTALL synapter
StartedAt: 2025-02-19 15:22:32 -0500 (Wed, 19 Feb 2025)
EndedAt: 2025-02-19 15:22:54 -0500 (Wed, 19 Feb 2025)
EllapsedTime: 22.2 seconds
RetCode: 0
Status: OK