Package: synapter
Version: 2.31.0
Command: /Library/Frameworks/R.framework/Resources/bin/R CMD check --install=check:synapter.install-out.txt --library=/Library/Frameworks/R.framework/Resources/library --no-vignettes --timings synapter_2.31.0.tar.gz
StartedAt: 2025-02-19 21:48:08 -0500 (Wed, 19 Feb 2025)
EndedAt: 2025-02-19 21:50:21 -0500 (Wed, 19 Feb 2025)
EllapsedTime: 133.7 seconds
RetCode: 0
Status: OK
CheckDir: synapter.Rcheck
Warnings: 0