Package: synapter Version: 2.31.0 Command: /Library/Frameworks/R.framework/Resources/bin/R CMD build --keep-empty-dirs --no-resave-data synapter StartedAt: 2025-02-19 17:47:14 -0500 (Wed, 19 Feb 2025) EndedAt: 2025-02-19 17:49:25 -0500 (Wed, 19 Feb 2025) EllapsedTime: 130.4 seconds RetCode: 0 Status: OK PackageFile: synapter_2.31.0.tar.gz PackageFileSize: 4.708 <A href="http://en.wikipedia.org/wiki/MiB" target="_blank">MiB</A>