Package: synapter
Version: 2.31.0
Command: rm -rf synapter.buildbin-libdir && mkdir synapter.buildbin-libdir && /Users/biocbuild/BBS/utils/build-universal.sh synapter_2.31.0.tar.gz /Library/Frameworks/R.framework/Resources/bin/R synapter.buildbin-libdir
StartedAt: 2025-02-19 22:40:44 -0500 (Wed, 19 Feb 2025)
EndedAt: 2025-02-19 22:41:09 -0500 (Wed, 19 Feb 2025)
EllapsedTime: 24.6 seconds
RetCode: 0
Status: OK
PackageFile: synapter_2.31.0.tgz
PackageFileSize: 5.496 <A href="http://en.wikipedia.org/wiki/MiB" target="_blank">MiB</A>