##############################################################################
##############################################################################
###
### Running command:
###
###   rm -rf synapter.buildbin-libdir && mkdir synapter.buildbin-libdir && /Users/biocbuild/BBS/utils/build-universal.sh synapter_2.31.0.tar.gz /Library/Frameworks/R.framework/Resources/bin/R synapter.buildbin-libdir
###
##############################################################################
##############################################################################


>>>>>>> 
>>>>>>> INSTALLATION WITH 'R CMD INSTALL --preclean --no-multiarch --library=synapter.buildbin-libdir synapter_2.31.0.tar.gz'
>>>>>>> 

* installing *source* package ‘synapter’ ...
** this is package ‘synapter’ version ‘2.31.0’
** using staged installation
** R
** data
** inst
** byte-compile and prepare package for lazy loading
** help
*** installing help indices
** building package indices
** installing vignettes
** testing if installed package can be loaded from temporary location
** testing if installed package can be loaded from final location
** testing if installed package keeps a record of temporary installation path
* DONE (synapter)