Package: strandCheckR
Version: 1.25.0
Maintainer: Thu-Hien To
MaintainerEmail: tothuhien at gmail.com
git_url: https://git.bioconductor.org/packages/strandCheckR
git_branch: devel
git_last_commit: d22ff46
git_last_commit_date: 2024-10-29 10:30:09 -0500 (Tue, 29 Oct 2024)