Package: staRank Version: 1.49.1 Command: /home/biocbuild/bbs-3.21-bioc/R/bin/R CMD INSTALL staRank StartedAt: 2025-02-19 16:04:52 -0500 (Wed, 19 Feb 2025) EndedAt: 2025-02-19 16:04:52 -0500 (Wed, 19 Feb 2025) EllapsedTime: 0.2 seconds RetCode: 1 Status: ERROR