Package: staRank
Version: 1.49.1
Command: /home/biocbuild/bbs-3.21-bioc/R/bin/R CMD build --keep-empty-dirs --no-resave-data staRank
StartedAt: 2025-02-19 19:26:27 -0500 (Wed, 19 Feb 2025)
EndedAt: 2025-02-19 19:26:28 -0500 (Wed, 19 Feb 2025)
EllapsedTime: 1.0 seconds
RetCode: 1
Status: ERROR
PackageFile: None
PackageFileSize: NA