##############################################################################
##############################################################################
###
### Running command:
###
###   /home/biocbuild/bbs-3.21-bioc/R/bin/R CMD build --keep-empty-dirs --no-resave-data staRank
###
##############################################################################
##############################################################################


* checking for file ‘staRank/DESCRIPTION’ ... OK
* preparing ‘staRank’:
* checking DESCRIPTION meta-information ... OK
* installing the package to build vignettes
      -----------------------------------
ERROR: dependency ‘cellHTS2’ is not available for package ‘staRank’
Perhaps try a variation of:
install.packages('cellHTS2')
* removing ‘/tmp/RtmpZuAzX3/Rinst1d1814dd547e8/staRank’
      -----------------------------------
ERROR: package installation failed