Package: staRank Version: 1.49.1 Maintainer: Juliane Siebourg MaintainerEmail: juliane.siebourg at bsse.ethz.ch git_url: https://git.bioconductor.org/packages/staRank git_branch: devel git_last_commit: da702c7 git_last_commit_date: 2024-11-26 10:57:09 -0500 (Tue, 26 Nov 2024)