Package: ssrch Version: 1.23.0 Command: /home/biocbuild/bbs-3.21-bioc/R/bin/R CMD INSTALL ssrch StartedAt: 2025-02-19 15:07:48 -0500 (Wed, 19 Feb 2025) EndedAt: 2025-02-19 15:08:22 -0500 (Wed, 19 Feb 2025) EllapsedTime: 33.9 seconds RetCode: 0 Status: OK