Package: ssrch
Version: 1.23.0
Command: /home/biocbuild/bbs-3.21-bioc/R/bin/R CMD check --install=check:ssrch.install-out.txt --library=/home/biocbuild/bbs-3.21-bioc/R/site-library --timings ssrch_1.23.0.tar.gz
StartedAt: 2025-02-20 02:57:07 -0500 (Thu, 20 Feb 2025)
EndedAt: 2025-02-20 02:57:37 -0500 (Thu, 20 Feb 2025)
EllapsedTime: 30.0 seconds
RetCode: 0
Status: OK
CheckDir: ssrch.Rcheck
Warnings: 0