Package: ssrch
Version: 1.23.0
Command: /home/biocbuild/bbs-3.21-bioc/R/bin/R CMD build --keep-empty-dirs --no-resave-data ssrch
StartedAt: 2025-02-19 19:26:04 -0500 (Wed, 19 Feb 2025)
EndedAt: 2025-02-19 19:26:12 -0500 (Wed, 19 Feb 2025)
EllapsedTime: 8.0 seconds
RetCode: 0
Status: OK
PackageFile: ssrch_1.23.0.tar.gz
PackageFileSize: 1.444 <A href="http://en.wikipedia.org/wiki/MiB" target="_blank">MiB</A>