##############################################################################
##############################################################################
###
### Running command:
###
###   /home/biocbuild/bbs-3.21-bioc/R/bin/R CMD build --keep-empty-dirs --no-resave-data ssrch
###
##############################################################################
##############################################################################


* checking for file ‘ssrch/DESCRIPTION’ ... OK
* preparing ‘ssrch’:
* checking DESCRIPTION meta-information ... OK
* installing the package to build vignettes
* creating vignettes ... OK
* checking for LF line-endings in source and make files and shell scripts
* checking for empty or unneeded directories
* building ‘ssrch_1.23.0.tar.gz’