Package: ssrch
Version: 1.23.0
Command: /home/biocbuild/R/R/bin/R CMD INSTALL ssrch
StartedAt: 2025-01-29 20:06:16 -0000 (Wed, 29 Jan 2025)
EndedAt: 2025-01-29 20:06:22 -0000 (Wed, 29 Jan 2025)
EllapsedTime: 5.9 seconds
RetCode: 0
Status: OK