Package: ssrch
Version: 1.23.0
Command: /Library/Frameworks/R.framework/Resources/bin/R CMD INSTALL ssrch
StartedAt: 2025-02-19 15:15:40 -0500 (Wed, 19 Feb 2025)
EndedAt: 2025-02-19 15:15:43 -0500 (Wed, 19 Feb 2025)
EllapsedTime: 2.4 seconds
RetCode: 0
Status: OK