Package: ssrch
Version: 1.23.0
Command: /Library/Frameworks/R.framework/Resources/bin/R CMD check --install=check:ssrch.install-out.txt --library=/Library/Frameworks/R.framework/Resources/library --no-vignettes --timings ssrch_1.23.0.tar.gz
StartedAt: 2025-02-19 21:44:10 -0500 (Wed, 19 Feb 2025)
EndedAt: 2025-02-19 21:44:25 -0500 (Wed, 19 Feb 2025)
EllapsedTime: 15.2 seconds
RetCode: 0
Status: OK
CheckDir: ssrch.Rcheck
Warnings: 0