Package: srnadiff Version: 1.27.3 Command: E:\biocbuild\bbs-3.21-bioc\R\bin\R.exe CMD INSTALL srnadiff StartedAt: 2025-02-04 16:14:42 -0500 (Tue, 04 Feb 2025) EndedAt: 2025-02-04 16:16:48 -0500 (Tue, 04 Feb 2025) EllapsedTime: 126.8 seconds RetCode: 0 Status: OK