Package: srnadiff Version: 1.27.3 Command: E:\biocbuild\bbs-3.21-bioc\R\bin\R.exe CMD check --no-multiarch --install=check:srnadiff.install-out.txt --library=E:\biocbuild\bbs-3.21-bioc\R\library --no-vignettes --timings srnadiff_1.27.3.tar.gz StartedAt: 2025-02-05 06:16:59 -0500 (Wed, 05 Feb 2025) EndedAt: 2025-02-05 06:38:50 -0500 (Wed, 05 Feb 2025) EllapsedTime: 1311.3 seconds RetCode: 0 Status: WARNINGS CheckDir: srnadiff.Rcheck Warnings: 1