Package: srnadiff Version: 1.27.3 Command: rm -rf srnadiff.buildbin-libdir && mkdir srnadiff.buildbin-libdir && E:\biocbuild\bbs-3.21-bioc\R\bin\R.exe CMD INSTALL --build --library=srnadiff.buildbin-libdir srnadiff_1.27.3.tar.gz StartedAt: 2025-02-17 08:35:55 -0500 (Mon, 17 Feb 2025) EndedAt: 2025-02-17 08:37:45 -0500 (Mon, 17 Feb 2025) EllapsedTime: 110.5 seconds RetCode: 0 Status: OK PackageFile: srnadiff_1.27.3.zip PackageFileSize: 3.203 <A href="http://en.wikipedia.org/wiki/MiB" target="_blank">MiB</A>