Package: srnadiff
Version: 1.27.3
Command: /home/biocbuild/bbs-3.21-bioc/R/bin/R CMD check --install=check:srnadiff.install-out.txt --library=/home/biocbuild/bbs-3.21-bioc/R/site-library --timings srnadiff_1.27.3.tar.gz
StartedAt: 2025-02-20 02:55:27 -0500 (Thu, 20 Feb 2025)
EndedAt: 2025-02-20 03:04:26 -0500 (Thu, 20 Feb 2025)
EllapsedTime: 539.7 seconds
RetCode: 0
Status: WARNINGS
CheckDir: srnadiff.Rcheck
Warnings: 1