Package: srnadiff Version: 1.27.3 Command: /home/biocbuild/bbs-3.21-bioc/R/bin/R CMD build --keep-empty-dirs --no-resave-data srnadiff StartedAt: 2025-02-19 19:25:32 -0500 (Wed, 19 Feb 2025) EndedAt: 2025-02-19 19:27:37 -0500 (Wed, 19 Feb 2025) EllapsedTime: 125.2 seconds RetCode: 0 Status: OK PackageFile: srnadiff_1.27.3.tar.gz PackageFileSize: 2.433 <A href="http://en.wikipedia.org/wiki/MiB" target="_blank">MiB</A>