Package: srnadiff
Version: 1.27.3
Command: /Library/Frameworks/R.framework/Resources/bin/R CMD INSTALL srnadiff
StartedAt: 2025-02-19 15:28:38 -0500 (Wed, 19 Feb 2025)
EndedAt: 2025-02-19 15:30:10 -0500 (Wed, 19 Feb 2025)
EllapsedTime: 92.2 seconds
RetCode: 0
Status: OK