Package: srnadiff Version: 1.27.3 Command: /Library/Frameworks/R.framework/Resources/bin/R CMD build --keep-empty-dirs --no-resave-data srnadiff StartedAt: 2025-02-19 18:25:18 -0500 (Wed, 19 Feb 2025) EndedAt: 2025-02-19 18:27:33 -0500 (Wed, 19 Feb 2025) EllapsedTime: 134.6 seconds RetCode: 0 Status: OK PackageFile: srnadiff_1.27.3.tar.gz PackageFileSize: 2.425 <A href="http://en.wikipedia.org/wiki/MiB" target="_blank">MiB</A>