Package: srnadiff Version: 1.27.3 Command: /home/biocbuild/R/R/bin/R CMD check --install=check:srnadiff.install-out.txt --library=/home/biocbuild/R/R/site-library --no-vignettes --timings srnadiff_1.27.3.tar.gz StartedAt: 2025-01-28 15:45:41 -0000 (Tue, 28 Jan 2025) EndedAt: 2025-01-28 15:57:20 -0000 (Tue, 28 Jan 2025) EllapsedTime: 698.9 seconds RetCode: 0 Status: WARNINGS CheckDir: srnadiff.Rcheck Warnings: 5