Package: srnadiff
Version: 1.27.3
Command: /Library/Frameworks/R.framework/Resources/bin/R CMD check --install=check:srnadiff.install-out.txt --library=/Library/Frameworks/R.framework/Resources/library --no-vignettes --timings srnadiff_1.27.3.tar.gz
StartedAt: 2025-02-19 21:43:31 -0500 (Wed, 19 Feb 2025)
EndedAt: 2025-02-19 21:46:33 -0500 (Wed, 19 Feb 2025)
EllapsedTime: 182.2 seconds
RetCode: 0
Status: WARNINGS
CheckDir: srnadiff.Rcheck
Warnings: 1