Package: srnadiff
Version: 1.27.3
Command: rm -rf srnadiff.buildbin-libdir && mkdir srnadiff.buildbin-libdir && /Users/biocbuild/BBS/utils/build-universal.sh srnadiff_1.27.3.tar.gz /Library/Frameworks/R.framework/Resources/bin/R srnadiff.buildbin-libdir
StartedAt: 2025-02-19 22:40:12 -0500 (Wed, 19 Feb 2025)
EndedAt: 2025-02-19 22:40:40 -0500 (Wed, 19 Feb 2025)
EllapsedTime: 28.7 seconds
RetCode: 0
Status: OK
PackageFile: srnadiff_1.27.3.tgz
PackageFileSize: 2.898 <A href="http://en.wikipedia.org/wiki/MiB" target="_blank">MiB</A>