Package: spkTools
Version: 1.63.0
Maintainer: Matthew N McCall
MaintainerEmail: mccallm at gmail.com
git_url: https://git.bioconductor.org/packages/spkTools
git_branch: devel
git_last_commit: c8630a9
git_last_commit_date: 2024-10-29 09:30:47 -0500 (Tue, 29 Oct 2024)