Package: speckle Version: 1.7.0 Command: /home/biocbuild/R/R/bin/R CMD check --install=check:speckle.install-out.txt --library=/home/biocbuild/R/R/site-library --no-vignettes --timings speckle_1.7.0.tar.gz StartedAt: 2025-01-28 15:36:42 -0000 (Tue, 28 Jan 2025) EndedAt: 2025-01-28 15:42:07 -0000 (Tue, 28 Jan 2025) EllapsedTime: 324.3 seconds RetCode: 0 Status: OK CheckDir: speckle.Rcheck Warnings: 0