Package: snpStats
Version: 1.57.0
Command: E:\biocbuild\bbs-3.21-bioc\R\bin\R.exe CMD INSTALL snpStats
StartedAt: 2025-02-19 16:40:28 -0500 (Wed, 19 Feb 2025)
EndedAt: 2025-02-19 16:41:35 -0500 (Wed, 19 Feb 2025)
EllapsedTime: 66.9 seconds
RetCode: 0
Status: OK