Package: snpStats
Version: 1.57.0
Command: chmod a+r snpStats -R && E:\biocbuild\bbs-3.21-bioc\R\bin\R.exe CMD build --keep-empty-dirs --no-resave-data snpStats
StartedAt: 2025-02-19 21:46:11 -0500 (Wed, 19 Feb 2025)
EndedAt: 2025-02-19 21:47:38 -0500 (Wed, 19 Feb 2025)
EllapsedTime: 87.1 seconds
RetCode: 1
Status: ERROR
PackageFile: None
PackageFileSize: NA