Package: snpStats
Version: 1.57.0
Command: rm -rf snpStats.buildbin-libdir && mkdir snpStats.buildbin-libdir && E:\biocbuild\bbs-3.21-bioc\R\bin\R.exe CMD INSTALL --build --library=snpStats.buildbin-libdir snpStats_1.57.0.tar.gz
StartedAt: 2025-01-22 08:37:58 -0500 (Wed, 22 Jan 2025)
EndedAt: 2025-01-22 08:39:17 -0500 (Wed, 22 Jan 2025)
EllapsedTime: 78.2 seconds
RetCode: 0
Status: OK
PackageFile: snpStats_1.57.0.zip
PackageFileSize: 7.526 <A href="http://en.wikipedia.org/wiki/MiB" target="_blank">MiB</A>