Package: snm
Version: 1.55.0
Command: E:\biocbuild\bbs-3.21-bioc\R\bin\R.exe CMD INSTALL snm
StartedAt: 2025-02-19 15:29:43 -0500 (Wed, 19 Feb 2025)
EndedAt: 2025-02-19 15:29:57 -0500 (Wed, 19 Feb 2025)
EllapsedTime: 13.7 seconds
RetCode: 0
Status: OK