Package: snm Version: 1.55.0 Command: E:\biocbuild\bbs-3.21-bioc\R\bin\R.exe CMD check --no-multiarch --install=check:snm.install-out.txt --library=E:\biocbuild\bbs-3.21-bioc\R\library --no-vignettes --timings snm_1.55.0.tar.gz StartedAt: 2025-02-20 05:37:56 -0500 (Thu, 20 Feb 2025) EndedAt: 2025-02-20 05:42:53 -0500 (Thu, 20 Feb 2025) EllapsedTime: 296.8 seconds RetCode: 0 Status: OK CheckDir: snm.Rcheck Warnings: 0