Package: snm
Version: 1.55.0
Command: rm -rf snm.buildbin-libdir && mkdir snm.buildbin-libdir && E:\biocbuild\bbs-3.21-bioc\R\bin\R.exe CMD INSTALL --build --library=snm.buildbin-libdir snm_1.55.0.tar.gz
StartedAt: 2025-02-20 08:49:15 -0500 (Thu, 20 Feb 2025)
EndedAt: 2025-02-20 08:49:35 -0500 (Thu, 20 Feb 2025)
EllapsedTime: 20.2 seconds
RetCode: 0
Status: OK
PackageFile: snm_1.55.0.zip
PackageFileSize: 457.9 <A href="http://en.wikipedia.org/wiki/KiB" target="_blank">KiB</A>