Package: snifter
Version: 1.17.0
Command: /home/biocbuild/bbs-3.21-bioc/R/bin/R CMD build --keep-empty-dirs --no-resave-data snifter
StartedAt: 2025-02-16 19:14:30 -0500 (Sun, 16 Feb 2025)
EndedAt: 2025-02-16 19:15:11 -0500 (Sun, 16 Feb 2025)
EllapsedTime: 41.1 seconds
RetCode: 0
Status: OK
PackageFile: snifter_1.17.0.tar.gz
PackageFileSize: 710.9 <A href="http://en.wikipedia.org/wiki/KiB" target="_blank">KiB</A>