Package: snifter Version: 1.17.0 Command: /Library/Frameworks/R.framework/Resources/bin/R CMD build --keep-empty-dirs --no-resave-data snifter StartedAt: 2025-02-04 18:22:58 -0500 (Tue, 04 Feb 2025) EndedAt: 2025-02-04 18:24:02 -0500 (Tue, 04 Feb 2025) EllapsedTime: 64.0 seconds RetCode: 0 Status: OK PackageFile: snifter_1.17.0.tar.gz PackageFileSize: 878.4 KiB