Package: snifter Version: 1.17.0 Command: /home/biocbuild/R/R/bin/R CMD check --install=check:snifter.install-out.txt --library=/home/biocbuild/R/R/site-library --no-vignettes --timings snifter_1.17.0.tar.gz StartedAt: 2025-01-28 15:28:58 -0000 (Tue, 28 Jan 2025) EndedAt: 2025-01-28 15:31:46 -0000 (Tue, 28 Jan 2025) EllapsedTime: 168.2 seconds RetCode: 0 Status: OK CheckDir: snifter.Rcheck Warnings: 0