Package: snifter
Version: 1.17.0
Command: /Library/Frameworks/R.framework/Resources/bin/R CMD INSTALL snifter
StartedAt: 2025-02-19 15:03:36 -0500 (Wed, 19 Feb 2025)
EndedAt: 2025-02-19 15:03:39 -0500 (Wed, 19 Feb 2025)
EllapsedTime: 2.9 seconds
RetCode: 0
Status: OK