Package: snifter
Version: 1.17.0
Command: /Library/Frameworks/R.framework/Resources/bin/R CMD check --install=check:snifter.install-out.txt --library=/Library/Frameworks/R.framework/Resources/library --no-vignettes --timings snifter_1.17.0.tar.gz
StartedAt: 2025-02-19 21:34:23 -0500 (Wed, 19 Feb 2025)
EndedAt: 2025-02-19 21:35:16 -0500 (Wed, 19 Feb 2025)
EllapsedTime: 52.5 seconds
RetCode: 0
Status: OK
CheckDir: snifter.Rcheck
Warnings: 0