Package: snifter
Version: 1.17.0
Command: /Library/Frameworks/R.framework/Resources/bin/R CMD build --keep-empty-dirs --no-resave-data snifter
StartedAt: 2025-02-19 17:40:30 -0500 (Wed, 19 Feb 2025)
EndedAt: 2025-02-19 17:40:52 -0500 (Wed, 19 Feb 2025)
EllapsedTime: 22.2 seconds
RetCode: 0
Status: OK
PackageFile: snifter_1.17.0.tar.gz
PackageFileSize: 877.2 <A href="http://en.wikipedia.org/wiki/KiB" target="_blank">KiB</A>