##############################################################################
##############################################################################
###
### Running command:
###
###   rm -rf snifter.buildbin-libdir && mkdir snifter.buildbin-libdir && /Users/biocbuild/BBS/utils/build-universal.sh snifter_1.17.0.tar.gz /Library/Frameworks/R.framework/Resources/bin/R snifter.buildbin-libdir
###
##############################################################################
##############################################################################


>>>>>>> 
>>>>>>> INSTALLATION WITH 'R CMD INSTALL --preclean --no-multiarch --library=snifter.buildbin-libdir snifter_1.17.0.tar.gz'
>>>>>>> 

* installing *source* package ‘snifter’ ...
** this is package ‘snifter’ version ‘1.17.0’
** using non-staged installation via StagedInstall field
** R
** inst
** byte-compile and prepare package for lazy loading
** help
*** installing help indices
*** copying figures
** building package indices
** installing vignettes
** testing if installed package can be loaded
* DONE (snifter)