Package: skewr Version: 1.39.0 Command: /Library/Frameworks/R.framework/Resources/bin/R CMD INSTALL skewr StartedAt: 2025-02-19 15:45:02 -0500 (Wed, 19 Feb 2025) EndedAt: 2025-02-19 15:45:54 -0500 (Wed, 19 Feb 2025) EllapsedTime: 52.1 seconds RetCode: 0 Status: OK